BEGIN:VCALENDAR
VERSION:2.0
PRODID:-//Stormheart Studios - ECPv6.15.18//NONSGML v1.0//EN
CALSCALE:GREGORIAN
METHOD:PUBLISH
X-WR-CALNAME:Stormheart Studios
X-ORIGINAL-URL:https://www.stormheartstudios.com
X-WR-CALDESC:Events for Stormheart Studios
REFRESH-INTERVAL;VALUE=DURATION:PT1H
X-Robots-Tag:noindex
X-PUBLISHED-TTL:PT1H
BEGIN:VTIMEZONE
TZID:America/New_York
BEGIN:DAYLIGHT
TZOFFSETFROM:-0500
TZOFFSETTO:-0400
TZNAME:EDT
DTSTART:20250309T070000
END:DAYLIGHT
BEGIN:STANDARD
TZOFFSETFROM:-0400
TZOFFSETTO:-0500
TZNAME:EST
DTSTART:20251102T060000
END:STANDARD
BEGIN:DAYLIGHT
TZOFFSETFROM:-0500
TZOFFSETTO:-0400
TZNAME:EDT
DTSTART:20260308T070000
END:DAYLIGHT
BEGIN:STANDARD
TZOFFSETFROM:-0400
TZOFFSETTO:-0500
TZNAME:EST
DTSTART:20261101T060000
END:STANDARD
BEGIN:DAYLIGHT
TZOFFSETFROM:-0500
TZOFFSETTO:-0400
TZNAME:EDT
DTSTART:20270314T070000
END:DAYLIGHT
BEGIN:STANDARD
TZOFFSETFROM:-0400
TZOFFSETTO:-0500
TZNAME:EST
DTSTART:20271107T060000
END:STANDARD
END:VTIMEZONE
BEGIN:VEVENT
DTSTART;VALUE=DATE:20260502
DTEND;VALUE=DATE:20260503
DTSTAMP:20260421T072045
CREATED:20260323T200245Z
LAST-MODIFIED:20260323T200650Z
UID:56-1777680000-1777766399@www.stormheartstudios.com
SUMMARY:Hampshire Pride 2026
DESCRIPTION:
URL:https://www.stormheartstudios.com/event/hampshire-pride-2026/
LOCATION:Behind Thornes Marketplace\, Northampton\, MA\, 01060\, United States
END:VEVENT
BEGIN:VEVENT
DTSTART;VALUE=DATE:20260625
DTEND;VALUE=DATE:20260629
DTSTAMP:20260421T072045
CREATED:20260320T181652Z
LAST-MODIFIED:20260323T195953Z
UID:38-1782345600-1782691199@www.stormheartstudios.com
SUMMARY:PortConMaine 2026
DESCRIPTION:
URL:https://www.stormheartstudios.com/event/portconmaine-2026/
LOCATION:Holiday Inn – By the Bay\, Portland\, ME\, United States
END:VEVENT
BEGIN:VEVENT
DTSTART;VALUE=DATE:20260716
DTEND;VALUE=DATE:20260720
DTSTAMP:20260421T072045
CREATED:20260320T182111Z
LAST-MODIFIED:20260323T195941Z
UID:45-1784160000-1784505599@www.stormheartstudios.com
SUMMARY:ConnectiCon 2026
DESCRIPTION:
URL:https://www.stormheartstudios.com/event/connecticon-2026/
LOCATION:Connecticut Convention Center\, Hartford\, CT\, United States
END:VEVENT
END:VCALENDAR